BEGIN:VCALENDAR
VERSION:2.0
PRODID:icalendar-ruby
CALSCALE:GREGORIAN
METHOD:PUBLISH
BEGIN:VEVENT
DTSTAMP:20260423T181823Z
UID:149-348388@rockingham.org.au
DTSTART:20260523T013000Z
DTEND:20260523T030000Z
CLASS:PUBLIC
CREATED:20260423T143729
DESCRIPTION:
LAST-MODIFIED:20260423T143729
LOCATION:Fantasy Park\, Waikiki
SUMMARY:Young Families Catch Up
URL;VALUE=URI:https://www.rockingham.org.au/events/young-families-catch-up-
 -149/2026-05-23
ATTACH;FILENAME=YFCU-Website-Events.jpg;FMTTYPE=image/jpeg:https://dq5pwpg1
 q8ru0.cloudfront.net/2026/04/23/06/37/28/82a31907-55d2-4cb4-9dbb-7a49c4b2c
 e8a/YFCU-Website-Events.jpg
END:VEVENT
END:VCALENDAR
